BEGIN:VCALENDAR
VERSION:2.0
PRODID:-//The Woman’s Club of Jacksonville, Inc. - ECPv6.2.1//NONSGML v1.0//EN
CALSCALE:GREGORIAN
METHOD:PUBLISH
X-WR-CALNAME:The Woman’s Club of Jacksonville, Inc.
X-ORIGINAL-URL:https://womansclubofjacksonville.org
X-WR-CALDESC:Events for The Woman’s Club of Jacksonville, Inc.
REFRESH-INTERVAL;VALUE=DURATION:PT1H
X-Robots-Tag:noindex
X-PUBLISHED-TTL:PT1H
BEGIN:VTIMEZONE
TZID:UTC
BEGIN:STANDARD
TZOFFSETFROM:+0000
TZOFFSETTO:+0000
TZNAME:UTC
DTSTART:20270101T000000
END:STANDARD
END:VTIMEZONE
BEGIN:VEVENT
DTSTART;VALUE=DATE:20270418
DTEND;VALUE=DATE:20270419
DTSTAMP:20260421T084633
CREATED:20200528T205726Z
LAST-MODIFIED:20200528T205726Z
UID:2057-1808006400-1808092799@womansclubofjacksonville.org
SUMMARY:🎂 Ann Trotter
DESCRIPTION:
URL:https://womansclubofjacksonville.org/event/ann-trotter/2027-04-18/
END:VEVENT
BEGIN:VEVENT
DTSTART;VALUE=DATE:20280418
DTEND;VALUE=DATE:20280419
DTSTAMP:20260421T084633
CREATED:20200528T205726Z
LAST-MODIFIED:20200528T205726Z
UID:2194-1839628800-1839715199@womansclubofjacksonville.org
SUMMARY:🎂 Ann Trotter
DESCRIPTION:
URL:https://womansclubofjacksonville.org/event/ann-trotter/2028-04-18/
END:VEVENT
END:VCALENDAR