BEGIN:VCALENDAR
VERSION:2.0
PRODID:-//The Woman’s Club of Jacksonville, Inc. - ECPv6.2.1//NONSGML v1.0//EN
CALSCALE:GREGORIAN
METHOD:PUBLISH
X-ORIGINAL-URL:https://womansclubofjacksonville.org
X-WR-CALDESC:Events for The Woman’s Club of Jacksonville, Inc.
REFRESH-INTERVAL;VALUE=DURATION:PT1H
X-Robots-Tag:noindex
X-PUBLISHED-TTL:PT1H
BEGIN:VTIMEZONE
TZID:UTC
BEGIN:STANDARD
TZOFFSETFROM:+0000
TZOFFSETTO:+0000
TZNAME:UTC
DTSTART:20200101T000000
END:STANDARD
END:VTIMEZONE
BEGIN:VEVENT
DTSTART;TZID=UTC:20260414T100000
DTEND;TZID=UTC:20260414T120000
DTSTAMP:20260421T101157
CREATED:20200507T074042Z
LAST-MODIFIED:20200507T074042Z
UID:1959-1776160800-1776168000@womansclubofjacksonville.org
SUMMARY:Executive board meeting
DESCRIPTION:
URL:https://womansclubofjacksonville.org/event/executive-board-meeting-2/2026-04-14/
END:VEVENT
BEGIN:VEVENT
DTSTART;TZID=UTC:20260310T100000
DTEND;TZID=UTC:20260310T120000
DTSTAMP:20260421T101157
CREATED:20200507T074042Z
LAST-MODIFIED:20200507T074042Z
UID:1958-1773136800-1773144000@womansclubofjacksonville.org
SUMMARY:Executive board meeting
DESCRIPTION:
URL:https://womansclubofjacksonville.org/event/executive-board-meeting-2/2026-03-10/
END:VEVENT
BEGIN:VEVENT
DTSTART;TZID=UTC:20260210T100000
DTEND;TZID=UTC:20260210T120000
DTSTAMP:20260421T101157
CREATED:20200507T074042Z
LAST-MODIFIED:20200507T074042Z
UID:1946-1770717600-1770724800@womansclubofjacksonville.org
SUMMARY:Executive board meeting
DESCRIPTION:
URL:https://womansclubofjacksonville.org/event/executive-board-meeting-2/2026-02-10/
END:VEVENT
BEGIN:VEVENT
DTSTART;TZID=UTC:20260113T100000
DTEND;TZID=UTC:20260113T120000
DTSTAMP:20260421T101157
CREATED:20200507T074042Z
LAST-MODIFIED:20200507T074042Z
UID:1940-1768298400-1768305600@womansclubofjacksonville.org
SUMMARY:Executive board meeting
DESCRIPTION:
URL:https://womansclubofjacksonville.org/event/executive-board-meeting-2/2026-01-13/
END:VEVENT
BEGIN:VEVENT
DTSTART;TZID=UTC:20251209T100000
DTEND;TZID=UTC:20251209T120000
DTSTAMP:20260421T101157
CREATED:20200507T074042Z
LAST-MODIFIED:20200507T074042Z
UID:1933-1765274400-1765281600@womansclubofjacksonville.org
SUMMARY:Executive board meeting
DESCRIPTION:
URL:https://womansclubofjacksonville.org/event/executive-board-meeting-2/2025-12-09/
END:VEVENT
BEGIN:VEVENT
DTSTART;TZID=UTC:20251111T100000
DTEND;TZID=UTC:20251111T120000
DTSTAMP:20260421T101157
CREATED:20200507T074042Z
LAST-MODIFIED:20200507T074042Z
UID:1930-1762855200-1762862400@womansclubofjacksonville.org
SUMMARY:Executive board meeting
DESCRIPTION:
URL:https://womansclubofjacksonville.org/event/executive-board-meeting-2/2025-11-11/
END:VEVENT
BEGIN:VEVENT
DTSTART;TZID=UTC:20251014T100000
DTEND;TZID=UTC:20251014T120000
DTSTAMP:20260421T101157
CREATED:20200507T074042Z
LAST-MODIFIED:20200507T074042Z
UID:1918-1760436000-1760443200@womansclubofjacksonville.org
SUMMARY:Executive board meeting
DESCRIPTION:
URL:https://womansclubofjacksonville.org/event/executive-board-meeting-2/2025-10-14/
END:VEVENT
BEGIN:VEVENT
DTSTART;TZID=UTC:20250909T100000
DTEND;TZID=UTC:20250909T120000
DTSTAMP:20260421T101157
CREATED:20200507T074042Z
LAST-MODIFIED:20200507T074042Z
UID:1872-1757412000-1757419200@womansclubofjacksonville.org
SUMMARY:Executive board meeting
DESCRIPTION:
URL:https://womansclubofjacksonville.org/event/executive-board-meeting-2/2025-09-09/
END:VEVENT
BEGIN:VEVENT
DTSTART;TZID=UTC:20250812T100000
DTEND;TZID=UTC:20250812T120000
DTSTAMP:20260421T101157
CREATED:20200507T074042Z
LAST-MODIFIED:20200507T074042Z
UID:1866-1754992800-1755000000@womansclubofjacksonville.org
SUMMARY:Executive board meeting
DESCRIPTION:
URL:https://womansclubofjacksonville.org/event/executive-board-meeting-2/2025-08-12/
END:VEVENT
BEGIN:VEVENT
DTSTART;TZID=UTC:20250708T100000
DTEND;TZID=UTC:20250708T120000
DTSTAMP:20260421T101157
CREATED:20200507T074042Z
LAST-MODIFIED:20200507T074042Z
UID:1860-1751968800-1751976000@womansclubofjacksonville.org
SUMMARY:Executive board meeting
DESCRIPTION:
URL:https://womansclubofjacksonville.org/event/executive-board-meeting-2/2025-07-08/
END:VEVENT
BEGIN:VEVENT
DTSTART;TZID=UTC:20250610T100000
DTEND;TZID=UTC:20250610T120000
DTSTAMP:20260421T101157
CREATED:20200507T074042Z
LAST-MODIFIED:20200507T074042Z
UID:1859-1749549600-1749556800@womansclubofjacksonville.org
SUMMARY:Executive board meeting
DESCRIPTION:
URL:https://womansclubofjacksonville.org/event/executive-board-meeting-2/2025-06-10/
END:VEVENT
BEGIN:VEVENT
DTSTART;TZID=UTC:20250513T100000
DTEND;TZID=UTC:20250513T120000
DTSTAMP:20260421T101157
CREATED:20200507T074042Z
LAST-MODIFIED:20200507T074042Z
UID:1661-1747130400-1747137600@womansclubofjacksonville.org
SUMMARY:Executive board meeting
DESCRIPTION:
URL:https://womansclubofjacksonville.org/event/executive-board-meeting-2/2025-05-13/
END:VEVENT
BEGIN:VEVENT
DTSTART;TZID=UTC:20250408T100000
DTEND;TZID=UTC:20250408T120000
DTSTAMP:20260421T101157
CREATED:20200507T074042Z
LAST-MODIFIED:20200507T074042Z
UID:1657-1744106400-1744113600@womansclubofjacksonville.org
SUMMARY:Executive board meeting
DESCRIPTION:
URL:https://womansclubofjacksonville.org/event/executive-board-meeting-2/2025-04-08/
END:VEVENT
BEGIN:VEVENT
DTSTART;TZID=UTC:20250311T100000
DTEND;TZID=UTC:20250311T120000
DTSTAMP:20260421T101157
CREATED:20200507T074042Z
LAST-MODIFIED:20200507T074042Z
UID:1656-1741687200-1741694400@womansclubofjacksonville.org
SUMMARY:Executive board meeting
DESCRIPTION:
URL:https://womansclubofjacksonville.org/event/executive-board-meeting-2/2025-03-11/
END:VEVENT
BEGIN:VEVENT
DTSTART;TZID=UTC:20250211T100000
DTEND;TZID=UTC:20250211T120000
DTSTAMP:20260421T101157
CREATED:20200507T074042Z
LAST-MODIFIED:20200507T074042Z
UID:1655-1739268000-1739275200@womansclubofjacksonville.org
SUMMARY:Executive board meeting
DESCRIPTION:
URL:https://womansclubofjacksonville.org/event/executive-board-meeting-2/2025-02-11/
END:VEVENT
BEGIN:VEVENT
DTSTART;TZID=UTC:20250114T100000
DTEND;TZID=UTC:20250114T120000
DTSTAMP:20260421T101157
CREATED:20200507T074042Z
LAST-MODIFIED:20200507T074042Z
UID:1649-1736848800-1736856000@womansclubofjacksonville.org
SUMMARY:Executive board meeting
DESCRIPTION:
URL:https://womansclubofjacksonville.org/event/executive-board-meeting-2/2025-01-14/
END:VEVENT
BEGIN:VEVENT
DTSTART;TZID=UTC:20241210T100000
DTEND;TZID=UTC:20241210T120000
DTSTAMP:20260421T101157
CREATED:20200507T074042Z
LAST-MODIFIED:20200507T074042Z
UID:1642-1733824800-1733832000@womansclubofjacksonville.org
SUMMARY:Executive board meeting
DESCRIPTION:
URL:https://womansclubofjacksonville.org/event/executive-board-meeting-2/2024-12-10/
END:VEVENT
BEGIN:VEVENT
DTSTART;TZID=UTC:20241112T100000
DTEND;TZID=UTC:20241112T120000
DTSTAMP:20260421T101157
CREATED:20200507T074042Z
LAST-MODIFIED:20200507T074042Z
UID:1639-1731405600-1731412800@womansclubofjacksonville.org
SUMMARY:Executive board meeting
DESCRIPTION:
URL:https://womansclubofjacksonville.org/event/executive-board-meeting-2/2024-11-12/
END:VEVENT
BEGIN:VEVENT
DTSTART;TZID=UTC:20241008T100000
DTEND;TZID=UTC:20241008T120000
DTSTAMP:20260421T101157
CREATED:20200507T074042Z
LAST-MODIFIED:20200507T074042Z
UID:1627-1728381600-1728388800@womansclubofjacksonville.org
SUMMARY:Executive board meeting
DESCRIPTION:
URL:https://womansclubofjacksonville.org/event/executive-board-meeting-2/2024-10-08/
END:VEVENT
BEGIN:VEVENT
DTSTART;TZID=UTC:20240910T100000
DTEND;TZID=UTC:20240910T120000
DTSTAMP:20260421T101157
CREATED:20200507T074042Z
LAST-MODIFIED:20200507T074042Z
UID:1626-1725962400-1725969600@womansclubofjacksonville.org
SUMMARY:Executive board meeting
DESCRIPTION:
URL:https://womansclubofjacksonville.org/event/executive-board-meeting-2/2024-09-10/
END:VEVENT
BEGIN:VEVENT
DTSTART;TZID=UTC:20240813T100000
DTEND;TZID=UTC:20240813T120000
DTSTAMP:20260421T101157
CREATED:20200507T074042Z
LAST-MODIFIED:20200507T074042Z
UID:1625-1723543200-1723550400@womansclubofjacksonville.org
SUMMARY:Executive board meeting
DESCRIPTION:
URL:https://womansclubofjacksonville.org/event/executive-board-meeting-2/2024-08-13/
END:VEVENT
BEGIN:VEVENT
DTSTART;TZID=UTC:20240709T100000
DTEND;TZID=UTC:20240709T120000
DTSTAMP:20260421T101157
CREATED:20200507T074042Z
LAST-MODIFIED:20200507T074042Z
UID:1622-1720519200-1720526400@womansclubofjacksonville.org
SUMMARY:Executive board meeting
DESCRIPTION:
URL:https://womansclubofjacksonville.org/event/executive-board-meeting-2/2024-07-09/
END:VEVENT
BEGIN:VEVENT
DTSTART;TZID=UTC:20240611T100000
DTEND;TZID=UTC:20240611T120000
DTSTAMP:20260421T101157
CREATED:20200507T074042Z
LAST-MODIFIED:20200507T074042Z
UID:1612-1718100000-1718107200@womansclubofjacksonville.org
SUMMARY:Executive board meeting
DESCRIPTION:
URL:https://womansclubofjacksonville.org/event/executive-board-meeting-2/2024-06-11/
END:VEVENT
BEGIN:VEVENT
DTSTART;TZID=UTC:20240514T100000
DTEND;TZID=UTC:20240514T120000
DTSTAMP:20260421T101157
CREATED:20200507T074042Z
LAST-MODIFIED:20200507T074042Z
UID:1611-1715680800-1715688000@womansclubofjacksonville.org
SUMMARY:Executive board meeting
DESCRIPTION:
URL:https://womansclubofjacksonville.org/event/executive-board-meeting-2/2024-05-14/
END:VEVENT
BEGIN:VEVENT
DTSTART;TZID=UTC:20200609T100000
DTEND;TZID=UTC:20200609T120000
DTSTAMP:20260421T101157
CREATED:20200507T074042Z
LAST-MODIFIED:20200608T212918Z
UID:445-1591696800-1591704000@womansclubofjacksonville.org
SUMMARY:Executive board meeting
DESCRIPTION:
URL:https://womansclubofjacksonville.org/event/executive-board-meeting-2/2020-06-09/
END:VEVENT
END:VCALENDAR