BEGIN:VCALENDAR
VERSION:2.0
PRODID:-//The Woman’s Club of Jacksonville, Inc. - ECPv6.2.1//NONSGML v1.0//EN
CALSCALE:GREGORIAN
METHOD:PUBLISH
X-ORIGINAL-URL:https://womansclubofjacksonville.org
X-WR-CALDESC:Events for The Woman’s Club of Jacksonville, Inc.
REFRESH-INTERVAL;VALUE=DURATION:PT1H
X-Robots-Tag:noindex
X-PUBLISHED-TTL:PT1H
BEGIN:VTIMEZONE
TZID:UTC
BEGIN:STANDARD
TZOFFSETFROM:+0000
TZOFFSETTO:+0000
TZNAME:UTC
DTSTART:20260101T000000
END:STANDARD
END:VTIMEZONE
BEGIN:VEVENT
DTSTART;TZID=UTC:20260512T100000
DTEND;TZID=UTC:20260512T120000
DTSTAMP:20260421T101233
CREATED:20200507T074042Z
LAST-MODIFIED:20200507T074042Z
UID:1962-1778580000-1778587200@womansclubofjacksonville.org
SUMMARY:Executive board meeting
DESCRIPTION:
URL:https://womansclubofjacksonville.org/event/executive-board-meeting-2/2026-05-12/
END:VEVENT
BEGIN:VEVENT
DTSTART;TZID=UTC:20260609T100000
DTEND;TZID=UTC:20260609T120000
DTSTAMP:20260421T101233
CREATED:20200507T074042Z
LAST-MODIFIED:20200507T074042Z
UID:1967-1780999200-1781006400@womansclubofjacksonville.org
SUMMARY:Executive board meeting
DESCRIPTION:
URL:https://womansclubofjacksonville.org/event/executive-board-meeting-2/2026-06-09/
END:VEVENT
BEGIN:VEVENT
DTSTART;TZID=UTC:20260714T100000
DTEND;TZID=UTC:20260714T120000
DTSTAMP:20260421T101233
CREATED:20200507T074042Z
LAST-MODIFIED:20200507T074042Z
UID:1968-1784023200-1784030400@womansclubofjacksonville.org
SUMMARY:Executive board meeting
DESCRIPTION:
URL:https://womansclubofjacksonville.org/event/executive-board-meeting-2/2026-07-14/
END:VEVENT
BEGIN:VEVENT
DTSTART;TZID=UTC:20260811T100000
DTEND;TZID=UTC:20260811T120000
DTSTAMP:20260421T101233
CREATED:20200507T074042Z
LAST-MODIFIED:20200507T074042Z
UID:1971-1786442400-1786449600@womansclubofjacksonville.org
SUMMARY:Executive board meeting
DESCRIPTION:
URL:https://womansclubofjacksonville.org/event/executive-board-meeting-2/2026-08-11/
END:VEVENT
BEGIN:VEVENT
DTSTART;TZID=UTC:20260908T100000
DTEND;TZID=UTC:20260908T120000
DTSTAMP:20260421T101233
CREATED:20200507T074042Z
LAST-MODIFIED:20200507T074042Z
UID:2018-1788861600-1788868800@womansclubofjacksonville.org
SUMMARY:Executive board meeting
DESCRIPTION:
URL:https://womansclubofjacksonville.org/event/executive-board-meeting-2/2026-09-08/
END:VEVENT
BEGIN:VEVENT
DTSTART;TZID=UTC:20261013T100000
DTEND;TZID=UTC:20261013T120000
DTSTAMP:20260421T101233
CREATED:20200507T074042Z
LAST-MODIFIED:20200507T074042Z
UID:2019-1791885600-1791892800@womansclubofjacksonville.org
SUMMARY:Executive board meeting
DESCRIPTION:
URL:https://womansclubofjacksonville.org/event/executive-board-meeting-2/2026-10-13/
END:VEVENT
BEGIN:VEVENT
DTSTART;TZID=UTC:20261110T100000
DTEND;TZID=UTC:20261110T120000
DTSTAMP:20260421T101233
CREATED:20200507T074042Z
LAST-MODIFIED:20200507T074042Z
UID:2026-1794304800-1794312000@womansclubofjacksonville.org
SUMMARY:Executive board meeting
DESCRIPTION:
URL:https://womansclubofjacksonville.org/event/executive-board-meeting-2/2026-11-10/
END:VEVENT
BEGIN:VEVENT
DTSTART;TZID=UTC:20261208T100000
DTEND;TZID=UTC:20261208T120000
DTSTAMP:20260421T101233
CREATED:20200507T074042Z
LAST-MODIFIED:20200507T074042Z
UID:2029-1796724000-1796731200@womansclubofjacksonville.org
SUMMARY:Executive board meeting
DESCRIPTION:
URL:https://womansclubofjacksonville.org/event/executive-board-meeting-2/2026-12-08/
END:VEVENT
BEGIN:VEVENT
DTSTART;TZID=UTC:20270112T100000
DTEND;TZID=UTC:20270112T120000
DTSTAMP:20260421T101233
CREATED:20200507T074042Z
LAST-MODIFIED:20200507T074042Z
UID:2036-1799748000-1799755200@womansclubofjacksonville.org
SUMMARY:Executive board meeting
DESCRIPTION:
URL:https://womansclubofjacksonville.org/event/executive-board-meeting-2/2027-01-12/
END:VEVENT
BEGIN:VEVENT
DTSTART;TZID=UTC:20270209T100000
DTEND;TZID=UTC:20270209T120000
DTSTAMP:20260421T101233
CREATED:20200507T074042Z
LAST-MODIFIED:20200507T074042Z
UID:2054-1802167200-1802174400@womansclubofjacksonville.org
SUMMARY:Executive board meeting
DESCRIPTION:
URL:https://womansclubofjacksonville.org/event/executive-board-meeting-2/2027-02-09/
END:VEVENT
BEGIN:VEVENT
DTSTART;TZID=UTC:20270309T100000
DTEND;TZID=UTC:20270309T120000
DTSTAMP:20260421T101233
CREATED:20200507T074042Z
LAST-MODIFIED:20200507T074042Z
UID:2055-1804586400-1804593600@womansclubofjacksonville.org
SUMMARY:Executive board meeting
DESCRIPTION:
URL:https://womansclubofjacksonville.org/event/executive-board-meeting-2/2027-03-09/
END:VEVENT
BEGIN:VEVENT
DTSTART;TZID=UTC:20270413T100000
DTEND;TZID=UTC:20270413T120000
DTSTAMP:20260421T101233
CREATED:20200507T074042Z
LAST-MODIFIED:20200507T074042Z
UID:2056-1807610400-1807617600@womansclubofjacksonville.org
SUMMARY:Executive board meeting
DESCRIPTION:
URL:https://womansclubofjacksonville.org/event/executive-board-meeting-2/2027-04-13/
END:VEVENT
BEGIN:VEVENT
DTSTART;TZID=UTC:20270511T100000
DTEND;TZID=UTC:20270511T120000
DTSTAMP:20260421T101233
CREATED:20200507T074042Z
LAST-MODIFIED:20200507T074042Z
UID:2059-1810029600-1810036800@womansclubofjacksonville.org
SUMMARY:Executive board meeting
DESCRIPTION:
URL:https://womansclubofjacksonville.org/event/executive-board-meeting-2/2027-05-11/
END:VEVENT
BEGIN:VEVENT
DTSTART;TZID=UTC:20270608T100000
DTEND;TZID=UTC:20270608T120000
DTSTAMP:20260421T101233
CREATED:20200507T074042Z
LAST-MODIFIED:20200507T074042Z
UID:2064-1812448800-1812456000@womansclubofjacksonville.org
SUMMARY:Executive board meeting
DESCRIPTION:
URL:https://womansclubofjacksonville.org/event/executive-board-meeting-2/2027-06-08/
END:VEVENT
BEGIN:VEVENT
DTSTART;TZID=UTC:20270713T100000
DTEND;TZID=UTC:20270713T120000
DTSTAMP:20260421T101233
CREATED:20200507T074042Z
LAST-MODIFIED:20200507T074042Z
UID:2075-1815472800-1815480000@womansclubofjacksonville.org
SUMMARY:Executive board meeting
DESCRIPTION:
URL:https://womansclubofjacksonville.org/event/executive-board-meeting-2/2027-07-13/
END:VEVENT
BEGIN:VEVENT
DTSTART;TZID=UTC:20270810T100000
DTEND;TZID=UTC:20270810T120000
DTSTAMP:20260421T101233
CREATED:20200507T074042Z
LAST-MODIFIED:20200507T074042Z
UID:2078-1817892000-1817899200@womansclubofjacksonville.org
SUMMARY:Executive board meeting
DESCRIPTION:
URL:https://womansclubofjacksonville.org/event/executive-board-meeting-2/2027-08-10/
END:VEVENT
BEGIN:VEVENT
DTSTART;TZID=UTC:20270914T100000
DTEND;TZID=UTC:20270914T120000
DTSTAMP:20260421T101233
CREATED:20200507T074042Z
LAST-MODIFIED:20200507T074042Z
UID:2079-1820916000-1820923200@womansclubofjacksonville.org
SUMMARY:Executive board meeting
DESCRIPTION:
URL:https://womansclubofjacksonville.org/event/executive-board-meeting-2/2027-09-14/
END:VEVENT
BEGIN:VEVENT
DTSTART;TZID=UTC:20271012T100000
DTEND;TZID=UTC:20271012T120000
DTSTAMP:20260421T101233
CREATED:20200507T074042Z
LAST-MODIFIED:20200507T074042Z
UID:2080-1823335200-1823342400@womansclubofjacksonville.org
SUMMARY:Executive board meeting
DESCRIPTION:
URL:https://womansclubofjacksonville.org/event/executive-board-meeting-2/2027-10-12/
END:VEVENT
BEGIN:VEVENT
DTSTART;TZID=UTC:20271109T100000
DTEND;TZID=UTC:20271109T120000
DTSTAMP:20260421T101233
CREATED:20200507T074042Z
LAST-MODIFIED:20200507T074042Z
UID:2083-1825754400-1825761600@womansclubofjacksonville.org
SUMMARY:Executive board meeting
DESCRIPTION:
URL:https://womansclubofjacksonville.org/event/executive-board-meeting-2/2027-11-09/
END:VEVENT
BEGIN:VEVENT
DTSTART;TZID=UTC:20271214T100000
DTEND;TZID=UTC:20271214T120000
DTSTAMP:20260421T101233
CREATED:20200507T074042Z
LAST-MODIFIED:20200507T074042Z
UID:2088-1828778400-1828785600@womansclubofjacksonville.org
SUMMARY:Executive board meeting
DESCRIPTION:
URL:https://womansclubofjacksonville.org/event/executive-board-meeting-2/2027-12-14/
END:VEVENT
BEGIN:VEVENT
DTSTART;TZID=UTC:20280111T100000
DTEND;TZID=UTC:20280111T120000
DTSTAMP:20260421T101233
CREATED:20200507T074042Z
LAST-MODIFIED:20200507T074042Z
UID:2094-1831197600-1831204800@womansclubofjacksonville.org
SUMMARY:Executive board meeting
DESCRIPTION:
URL:https://womansclubofjacksonville.org/event/executive-board-meeting-2/2028-01-11/
END:VEVENT
BEGIN:VEVENT
DTSTART;TZID=UTC:20280208T100000
DTEND;TZID=UTC:20280208T120000
DTSTAMP:20260421T101233
CREATED:20200507T074042Z
LAST-MODIFIED:20200507T074042Z
UID:2135-1833616800-1833624000@womansclubofjacksonville.org
SUMMARY:Executive board meeting
DESCRIPTION:
URL:https://womansclubofjacksonville.org/event/executive-board-meeting-2/2028-02-08/
END:VEVENT
BEGIN:VEVENT
DTSTART;TZID=UTC:20280314T100000
DTEND;TZID=UTC:20280314T120000
DTSTAMP:20260421T101233
CREATED:20200507T074042Z
LAST-MODIFIED:20200507T074042Z
UID:2157-1836640800-1836648000@womansclubofjacksonville.org
SUMMARY:Executive board meeting
DESCRIPTION:
URL:https://womansclubofjacksonville.org/event/executive-board-meeting-2/2028-03-14/
END:VEVENT
BEGIN:VEVENT
DTSTART;TZID=UTC:20280411T100000
DTEND;TZID=UTC:20280411T120000
DTSTAMP:20260421T101233
CREATED:20200507T074042Z
LAST-MODIFIED:20200507T074042Z
UID:2193-1839060000-1839067200@womansclubofjacksonville.org
SUMMARY:Executive board meeting
DESCRIPTION:
URL:https://womansclubofjacksonville.org/event/executive-board-meeting-2/2028-04-11/
END:VEVENT
END:VCALENDAR