BEGIN:VCALENDAR
VERSION:2.0
PRODID:-//The Woman’s Club of Jacksonville, Inc. - ECPv6.2.1//NONSGML v1.0//EN
CALSCALE:GREGORIAN
METHOD:PUBLISH
X-WR-CALNAME:The Woman’s Club of Jacksonville, Inc.
X-ORIGINAL-URL:https://womansclubofjacksonville.org
X-WR-CALDESC:Events for The Woman’s Club of Jacksonville, Inc.
REFRESH-INTERVAL;VALUE=DURATION:PT1H
X-Robots-Tag:noindex
X-PUBLISHED-TTL:PT1H
BEGIN:VTIMEZONE
TZID:UTC
BEGIN:STANDARD
TZOFFSETFROM:+0000
TZOFFSETTO:+0000
TZNAME:UTC
DTSTART:20260101T000000
END:STANDARD
END:VTIMEZONE
BEGIN:VEVENT
DTSTART;VALUE=DATE:20261224
DTEND;VALUE=DATE:20261225
DTSTAMP:20260421T143219
CREATED:20200528T213842Z
LAST-MODIFIED:20200528T213842Z
UID:2031-1798070400-1798156799@womansclubofjacksonville.org
SUMMARY:🎂 Ginger Dodd
DESCRIPTION:
URL:https://womansclubofjacksonville.org/event/ginger-dodd/2026-12-24/
END:VEVENT
BEGIN:VEVENT
DTSTART;VALUE=DATE:20271224
DTEND;VALUE=DATE:20271225
DTSTAMP:20260421T143219
CREATED:20200528T213842Z
LAST-MODIFIED:20200528T213842Z
UID:2089-1829606400-1829692799@womansclubofjacksonville.org
SUMMARY:🎂 Ginger Dodd
DESCRIPTION:
URL:https://womansclubofjacksonville.org/event/ginger-dodd/2027-12-24/
END:VEVENT
END:VCALENDAR