BEGIN:VCALENDAR
VERSION:2.0
PRODID:-//The Woman’s Club of Jacksonville, Inc. - ECPv6.2.1//NONSGML v1.0//EN
CALSCALE:GREGORIAN
METHOD:PUBLISH
X-ORIGINAL-URL:https://womansclubofjacksonville.org
X-WR-CALDESC:Events for The Woman’s Club of Jacksonville, Inc.
REFRESH-INTERVAL;VALUE=DURATION:PT1H
X-Robots-Tag:noindex
X-PUBLISHED-TTL:PT1H
BEGIN:VTIMEZONE
TZID:UTC
BEGIN:STANDARD
TZOFFSETFROM:+0000
TZOFFSETTO:+0000
TZNAME:UTC
DTSTART:20200101T000000
END:STANDARD
END:VTIMEZONE
BEGIN:VEVENT
DTSTART;VALUE=DATE:20250527
DTEND;VALUE=DATE:20250528
DTSTAMP:20260421T114142
CREATED:20200528T210124Z
LAST-MODIFIED:20200528T210124Z
UID:1664-1748304000-1748390399@womansclubofjacksonville.org
SUMMARY:🎂 Irene Woodworth
DESCRIPTION:
URL:https://womansclubofjacksonville.org/event/irene-woodworth/2025-05-27/
END:VEVENT
BEGIN:VEVENT
DTSTART;VALUE=DATE:20240527
DTEND;VALUE=DATE:20240528
DTSTAMP:20260421T114142
CREATED:20200528T210124Z
LAST-MODIFIED:20200528T210124Z
UID:1607-1716768000-1716854399@womansclubofjacksonville.org
SUMMARY:🎂 Irene Woodworth
DESCRIPTION:
URL:https://womansclubofjacksonville.org/event/irene-woodworth/2024-05-27/
END:VEVENT
BEGIN:VEVENT
DTSTART;VALUE=DATE:20200527
DTEND;VALUE=DATE:20200528
DTSTAMP:20260421T114142
CREATED:20200528T210124Z
LAST-MODIFIED:20200606T020253Z
UID:1002-1590537600-1590623999@womansclubofjacksonville.org
SUMMARY:🎂 Irene Woodworth
DESCRIPTION:
URL:https://womansclubofjacksonville.org/event/irene-woodworth/2020-05-27/
END:VEVENT
END:VCALENDAR