BEGIN:VCALENDAR
VERSION:2.0
PRODID:-//The Woman’s Club of Jacksonville, Inc. - ECPv6.2.1//NONSGML v1.0//EN
CALSCALE:GREGORIAN
METHOD:PUBLISH
X-ORIGINAL-URL:https://womansclubofjacksonville.org
X-WR-CALDESC:Events for The Woman’s Club of Jacksonville, Inc.
REFRESH-INTERVAL;VALUE=DURATION:PT1H
X-Robots-Tag:noindex
X-PUBLISHED-TTL:PT1H
BEGIN:VTIMEZONE
TZID:UTC
BEGIN:STANDARD
TZOFFSETFROM:+0000
TZOFFSETTO:+0000
TZNAME:UTC
DTSTART:20260101T000000
END:STANDARD
END:VTIMEZONE
BEGIN:VEVENT
DTSTART;VALUE=DATE:20261214
DTEND;VALUE=DATE:20261215
DTSTAMP:20260421T130736
CREATED:20200528T213730Z
LAST-MODIFIED:20200528T213730Z
UID:2030-1797206400-1797292799@womansclubofjacksonville.org
SUMMARY:🎂 Judy Davidson
DESCRIPTION:
URL:https://womansclubofjacksonville.org/event/judy-davidson/2026-12-14/
END:VEVENT
BEGIN:VEVENT
DTSTART;VALUE=DATE:20271214
DTEND;VALUE=DATE:20271215
DTSTAMP:20260421T130736
CREATED:20200528T213730Z
LAST-MODIFIED:20200528T213730Z
UID:2087-1828742400-1828828799@womansclubofjacksonville.org
SUMMARY:🎂 Judy Davidson
DESCRIPTION:
URL:https://womansclubofjacksonville.org/event/judy-davidson/2027-12-14/
END:VEVENT
END:VCALENDAR