BEGIN:VCALENDAR
VERSION:2.0
PRODID:-//The Woman’s Club of Jacksonville, Inc. - ECPv6.2.1//NONSGML v1.0//EN
CALSCALE:GREGORIAN
METHOD:PUBLISH
X-WR-CALNAME:The Woman’s Club of Jacksonville, Inc.
X-ORIGINAL-URL:https://womansclubofjacksonville.org
X-WR-CALDESC:Events for The Woman’s Club of Jacksonville, Inc.
REFRESH-INTERVAL;VALUE=DURATION:PT1H
X-Robots-Tag:noindex
X-PUBLISHED-TTL:PT1H
BEGIN:VTIMEZONE
TZID:UTC
BEGIN:STANDARD
TZOFFSETFROM:+0000
TZOFFSETTO:+0000
TZNAME:UTC
DTSTART:20200101T000000
END:STANDARD
END:VTIMEZONE
BEGIN:VEVENT
DTSTART;VALUE=DATE:20250513
DTEND;VALUE=DATE:20250514
DTSTAMP:20260421T113250
CREATED:20200528T205959Z
LAST-MODIFIED:20200528T205959Z
UID:1660-1747094400-1747180799@womansclubofjacksonville.org
SUMMARY:🎂 Karin Flint
DESCRIPTION:
URL:https://womansclubofjacksonville.org/event/karin-flint/2025-05-13/
END:VEVENT
BEGIN:VEVENT
DTSTART;VALUE=DATE:20240513
DTEND;VALUE=DATE:20240514
DTSTAMP:20260421T113250
CREATED:20200528T205959Z
LAST-MODIFIED:20200528T205959Z
UID:1604-1715558400-1715644799@womansclubofjacksonville.org
SUMMARY:🎂 Karin Flint
DESCRIPTION:
URL:https://womansclubofjacksonville.org/event/karin-flint/2024-05-13/
END:VEVENT
BEGIN:VEVENT
DTSTART;VALUE=DATE:20200513
DTEND;VALUE=DATE:20200514
DTSTAMP:20260421T113250
CREATED:20200528T205959Z
LAST-MODIFIED:20200606T020413Z
UID:998-1589328000-1589414399@womansclubofjacksonville.org
SUMMARY:🎂 Karin Flint
DESCRIPTION:
URL:https://womansclubofjacksonville.org/event/karin-flint/2020-05-13/
END:VEVENT
END:VCALENDAR