BEGIN:VCALENDAR
VERSION:2.0
PRODID:-//The Woman’s Club of Jacksonville, Inc. - ECPv6.2.1//NONSGML v1.0//EN
CALSCALE:GREGORIAN
METHOD:PUBLISH
X-WR-CALNAME:The Woman’s Club of Jacksonville, Inc.
X-ORIGINAL-URL:https://womansclubofjacksonville.org
X-WR-CALDESC:Events for The Woman’s Club of Jacksonville, Inc.
REFRESH-INTERVAL;VALUE=DURATION:PT1H
X-Robots-Tag:noindex
X-PUBLISHED-TTL:PT1H
BEGIN:VTIMEZONE
TZID:UTC
BEGIN:STANDARD
TZOFFSETFROM:+0000
TZOFFSETTO:+0000
TZNAME:UTC
DTSTART:20200101T000000
END:STANDARD
END:VTIMEZONE
BEGIN:VEVENT
DTSTART;VALUE=DATE:20250518
DTEND;VALUE=DATE:20250519
DTSTAMP:20260421T114218
CREATED:20200528T210043Z
LAST-MODIFIED:20200528T210043Z
UID:1662-1747526400-1747612799@womansclubofjacksonville.org
SUMMARY:🎂 Linda Storey
DESCRIPTION:
URL:https://womansclubofjacksonville.org/event/linda-storey/2025-05-18/
END:VEVENT
BEGIN:VEVENT
DTSTART;VALUE=DATE:20240518
DTEND;VALUE=DATE:20240519
DTSTAMP:20260421T114218
CREATED:20200528T210043Z
LAST-MODIFIED:20200528T210043Z
UID:1605-1715990400-1716076799@womansclubofjacksonville.org
SUMMARY:🎂 Linda Storey
DESCRIPTION:
URL:https://womansclubofjacksonville.org/event/linda-storey/2024-05-18/
END:VEVENT
BEGIN:VEVENT
DTSTART;VALUE=DATE:20200518
DTEND;VALUE=DATE:20200519
DTSTAMP:20260421T114218
CREATED:20200528T210043Z
LAST-MODIFIED:20200606T020338Z
UID:1000-1589760000-1589846399@womansclubofjacksonville.org
SUMMARY:🎂 Linda Storey
DESCRIPTION:
URL:https://womansclubofjacksonville.org/event/linda-storey/2020-05-18/
END:VEVENT
END:VCALENDAR