BEGIN:VCALENDAR
VERSION:2.0
PRODID:-//The Woman’s Club of Jacksonville, Inc. - ECPv6.2.1//NONSGML v1.0//EN
CALSCALE:GREGORIAN
METHOD:PUBLISH
X-ORIGINAL-URL:https://womansclubofjacksonville.org
X-WR-CALDESC:Events for The Woman’s Club of Jacksonville, Inc.
REFRESH-INTERVAL;VALUE=DURATION:PT1H
X-Robots-Tag:noindex
X-PUBLISHED-TTL:PT1H
BEGIN:VTIMEZONE
TZID:UTC
BEGIN:STANDARD
TZOFFSETFROM:+0000
TZOFFSETTO:+0000
TZNAME:UTC
DTSTART:20260101T000000
END:STANDARD
END:VTIMEZONE
BEGIN:VEVENT
DTSTART;VALUE=DATE:20260518
DTEND;VALUE=DATE:20260519
DTSTAMP:20260421T101314
CREATED:20200528T210043Z
LAST-MODIFIED:20200528T210043Z
UID:1964-1779062400-1779148799@womansclubofjacksonville.org
SUMMARY:🎂 Linda Storey
DESCRIPTION:
URL:https://womansclubofjacksonville.org/event/linda-storey/2026-05-18/
END:VEVENT
BEGIN:VEVENT
DTSTART;VALUE=DATE:20270518
DTEND;VALUE=DATE:20270519
DTSTAMP:20260421T101314
CREATED:20200528T210043Z
LAST-MODIFIED:20200528T210043Z
UID:2061-1810598400-1810684799@womansclubofjacksonville.org
SUMMARY:🎂 Linda Storey
DESCRIPTION:
URL:https://womansclubofjacksonville.org/event/linda-storey/2027-05-18/
END:VEVENT
END:VCALENDAR