BEGIN:VCALENDAR
VERSION:2.0
PRODID:-//The Woman’s Club of Jacksonville, Inc. - ECPv6.2.1//NONSGML v1.0//EN
CALSCALE:GREGORIAN
METHOD:PUBLISH
X-WR-CALNAME:The Woman’s Club of Jacksonville, Inc.
X-ORIGINAL-URL:https://womansclubofjacksonville.org
X-WR-CALDESC:Events for The Woman’s Club of Jacksonville, Inc.
REFRESH-INTERVAL;VALUE=DURATION:PT1H
X-Robots-Tag:noindex
X-PUBLISHED-TTL:PT1H
BEGIN:VTIMEZONE
TZID:UTC
BEGIN:STANDARD
TZOFFSETFROM:+0000
TZOFFSETTO:+0000
TZNAME:UTC
DTSTART:20200101T000000
END:STANDARD
END:VTIMEZONE
BEGIN:VEVENT
DTSTART;VALUE=DATE:20250802
DTEND;VALUE=DATE:20250803
DTSTAMP:20260421T145615
CREATED:20200528T212434Z
LAST-MODIFIED:20200528T212434Z
UID:1858-1754092800-1754179199@womansclubofjacksonville.org
SUMMARY:🎂 Melody B. Schnauss
DESCRIPTION:
URL:https://womansclubofjacksonville.org/event/melody-b-schnauss/2025-08-02/
END:VEVENT
BEGIN:VEVENT
DTSTART;VALUE=DATE:20240802
DTEND;VALUE=DATE:20240803
DTSTAMP:20260421T145615
CREATED:20200528T212434Z
LAST-MODIFIED:20200528T212434Z
UID:1624-1722556800-1722643199@womansclubofjacksonville.org
SUMMARY:🎂 Melody B. Schnauss
DESCRIPTION:
URL:https://womansclubofjacksonville.org/event/melody-b-schnauss/2024-08-02/
END:VEVENT
BEGIN:VEVENT
DTSTART;VALUE=DATE:20200802
DTEND;VALUE=DATE:20200803
DTSTAMP:20260421T145615
CREATED:20200528T212434Z
LAST-MODIFIED:20200606T021507Z
UID:1033-1596326400-1596412799@womansclubofjacksonville.org
SUMMARY:🎂 Melody B. Schnauss
DESCRIPTION:
URL:https://womansclubofjacksonville.org/event/melody-b-schnauss/2020-08-02/
END:VEVENT
END:VCALENDAR