BEGIN:VCALENDAR
VERSION:2.0
PRODID:-//The Woman’s Club of Jacksonville, Inc. - ECPv6.2.1//NONSGML v1.0//EN
CALSCALE:GREGORIAN
METHOD:PUBLISH
X-ORIGINAL-URL:https://womansclubofjacksonville.org
X-WR-CALDESC:Events for The Woman’s Club of Jacksonville, Inc.
REFRESH-INTERVAL;VALUE=DURATION:PT1H
X-Robots-Tag:noindex
X-PUBLISHED-TTL:PT1H
BEGIN:VTIMEZONE
TZID:UTC
BEGIN:STANDARD
TZOFFSETFROM:+0000
TZOFFSETTO:+0000
TZNAME:UTC
DTSTART:20260101T000000
END:STANDARD
END:VTIMEZONE
BEGIN:VEVENT
DTSTART;TZID=UTC:20260908T100000
DTEND;TZID=UTC:20260908T120000
DTSTAMP:20260421T144648
CREATED:20200507T074042Z
LAST-MODIFIED:20200507T074042Z
UID:2018-1788861600-1788868800@womansclubofjacksonville.org
SUMMARY:Executive board meeting
DESCRIPTION:
URL:https://womansclubofjacksonville.org/event/executive-board-meeting-2/2026-09-08/
END:VEVENT
END:VCALENDAR