BEGIN:VCALENDAR
VERSION:2.0
PRODID:-//The Woman’s Club of Jacksonville, Inc. - ECPv6.2.1//NONSGML v1.0//EN
CALSCALE:GREGORIAN
METHOD:PUBLISH
X-WR-CALNAME:The Woman’s Club of Jacksonville, Inc.
X-ORIGINAL-URL:https://womansclubofjacksonville.org
X-WR-CALDESC:Events for The Woman’s Club of Jacksonville, Inc.
REFRESH-INTERVAL;VALUE=DURATION:PT1H
X-Robots-Tag:noindex
X-PUBLISHED-TTL:PT1H
BEGIN:VTIMEZONE
TZID:UTC
BEGIN:STANDARD
TZOFFSETFROM:+0000
TZOFFSETTO:+0000
TZNAME:UTC
DTSTART:20270101T000000
END:STANDARD
END:VTIMEZONE
BEGIN:VEVENT
DTSTART;VALUE=DATE:20270105
DTEND;VALUE=DATE:20270106
DTSTAMP:20260421T204607
CREATED:20200528T213110Z
LAST-MODIFIED:20200528T213110Z
UID:2033-1799107200-1799193599@womansclubofjacksonville.org
SUMMARY:🎂 Margaret Pelton
DESCRIPTION:
URL:https://womansclubofjacksonville.org/event/margaret-pelton/2027-01-05/
END:VEVENT
BEGIN:VEVENT
DTSTART;VALUE=DATE:20270109
DTEND;VALUE=DATE:20270110
DTSTAMP:20260421T204607
CREATED:20200528T213317Z
LAST-MODIFIED:20200528T213317Z
UID:2034-1799452800-1799539199@womansclubofjacksonville.org
SUMMARY:🎂 Sarah Van Cleve
DESCRIPTION:
URL:https://womansclubofjacksonville.org/event/sarah-van-cleve/2027-01-09/
END:VEVENT
BEGIN:VEVENT
DTSTART;VALUE=DATE:20270110
DTEND;VALUE=DATE:20270111
DTSTAMP:20260421T204607
CREATED:20200528T213431Z
LAST-MODIFIED:20200528T213431Z
UID:2035-1799539200-1799625599@womansclubofjacksonville.org
SUMMARY:🎂 Alison Henderson
DESCRIPTION:
URL:https://womansclubofjacksonville.org/event/alison-henderson/2027-01-10/
END:VEVENT
BEGIN:VEVENT
DTSTART;TZID=UTC:20270112T100000
DTEND;TZID=UTC:20270112T120000
DTSTAMP:20260421T204607
CREATED:20200507T074042Z
LAST-MODIFIED:20200507T074042Z
UID:2036-1799748000-1799755200@womansclubofjacksonville.org
SUMMARY:Executive board meeting
DESCRIPTION:
URL:https://womansclubofjacksonville.org/event/executive-board-meeting-2/2027-01-12/
END:VEVENT
BEGIN:VEVENT
DTSTART;TZID=UTC:20270116T110000
DTEND;TZID=UTC:20270116T123000
DTSTAMP:20260421T204607
CREATED:20200528T212005Z
LAST-MODIFIED:20200528T212005Z
UID:2037-1800097200-1800102600@womansclubofjacksonville.org
SUMMARY:🍾December  Meeting of Woman's Club
DESCRIPTION:
URL:https://womansclubofjacksonville.org/event/womans-club-of-jacksonville/2027-01-16/
END:VEVENT
BEGIN:VEVENT
DTSTART;VALUE=DATE:20270123
DTEND;VALUE=DATE:20270124
DTSTAMP:20260421T204607
CREATED:20200528T210224Z
LAST-MODIFIED:20200528T210224Z
UID:2050-1800662400-1800748799@womansclubofjacksonville.org
SUMMARY:🎂 Fran Root
DESCRIPTION:
URL:https://womansclubofjacksonville.org/event/fran-root/2027-01-23/
END:VEVENT
BEGIN:VEVENT
DTSTART;VALUE=DATE:20270128
DTEND;VALUE=DATE:20270129
DTSTAMP:20260421T204607
CREATED:20200528T212223Z
LAST-MODIFIED:20200528T212223Z
UID:2051-1801094400-1801180799@womansclubofjacksonville.org
SUMMARY:🎂 D. H. Eaton
DESCRIPTION:
URL:https://womansclubofjacksonville.org/event/d-h-eaton/2027-01-28/
END:VEVENT
BEGIN:VEVENT
DTSTART;VALUE=DATE:20270130
DTEND;VALUE=DATE:20270131
DTSTAMP:20260421T204607
CREATED:20200528T201850Z
LAST-MODIFIED:20200528T201850Z
UID:2052-1801267200-1801353599@womansclubofjacksonville.org
SUMMARY:🎂 Jeannette Schnauss
DESCRIPTION:
URL:https://womansclubofjacksonville.org/event/jeannette-schnauss/2027-01-30/
END:VEVENT
END:VCALENDAR