BEGIN:VCALENDAR
VERSION:2.0
PRODID:-//The Woman’s Club of Jacksonville, Inc. - ECPv6.2.1//NONSGML v1.0//EN
CALSCALE:GREGORIAN
METHOD:PUBLISH
X-ORIGINAL-URL:https://womansclubofjacksonville.org
X-WR-CALDESC:Events for The Woman’s Club of Jacksonville, Inc.
REFRESH-INTERVAL;VALUE=DURATION:PT1H
X-Robots-Tag:noindex
X-PUBLISHED-TTL:PT1H
BEGIN:VTIMEZONE
TZID:UTC
BEGIN:STANDARD
TZOFFSETFROM:+0000
TZOFFSETTO:+0000
TZNAME:UTC
DTSTART:20270101T000000
END:STANDARD
END:VTIMEZONE
BEGIN:VEVENT
DTSTART;TZID=UTC:20270413T100000
DTEND;TZID=UTC:20270413T120000
DTSTAMP:20260422T011109
CREATED:20200507T074042Z
LAST-MODIFIED:20200507T074042Z
UID:2056-1807610400-1807617600@womansclubofjacksonville.org
SUMMARY:Executive board meeting
DESCRIPTION:
URL:https://womansclubofjacksonville.org/event/executive-board-meeting-2/2027-04-13/
END:VEVENT
BEGIN:VEVENT
DTSTART;VALUE=DATE:20270418
DTEND;VALUE=DATE:20270419
DTSTAMP:20260422T011109
CREATED:20200528T205726Z
LAST-MODIFIED:20200528T205726Z
UID:2057-1808006400-1808092799@womansclubofjacksonville.org
SUMMARY:🎂 Ann Trotter
DESCRIPTION:
URL:https://womansclubofjacksonville.org/event/ann-trotter/2027-04-18/
END:VEVENT
BEGIN:VEVENT
DTSTART;VALUE=DATE:20270420
DTEND;VALUE=DATE:20270421
DTSTAMP:20260422T011109
CREATED:20200528T205815Z
LAST-MODIFIED:20200528T205815Z
UID:2058-1808179200-1808265599@womansclubofjacksonville.org
SUMMARY:🎂 Mattie Fraser
DESCRIPTION:
URL:https://womansclubofjacksonville.org/event/mattie-fraser/2027-04-20/
END:VEVENT
END:VCALENDAR